BEGIN:VCALENDAR
VERSION:2.0
PRODID:-//Tukios.com/
BEGIN:VEVENT
UID:6cc97f75-a131-420e-b284-9dc8f423bd4a@www.bartleyfh.com
DTSTAMP:20260421T082347Z
DTSTART:20260415T160000Z
DTEND:20260415T170000Z
SUMMARY:Funeral Service
DESCRIPTION:
URL:https://www.bartleyfh.com/obituaries/harold-waters
LOCATION: 110 Main St  Lone Oak TX 75453
GEO:32.9965479;-95.9410228
END:VEVENT
END:VCALENDAR