BEGIN:VCALENDAR
VERSION:2.0
PRODID:-//Tukios.com/
BEGIN:VEVENT
UID:aacf4af0-715f-4eb5-8356-7bb0d796358a@www.bartleyfh.com
DTSTAMP:20260424T021508Z
DTSTART:20260425T200000Z
DTEND:20260425T210000Z
SUMMARY:Graveside Service
DESCRIPTION:
URL:https://www.bartleyfh.com/obituaries/helen-neidholt
LOCATION:Pilgrim Rest #2 Cemetery CR 2376  Alba TX 75410
GEO:32.7564805;-95.5795964
END:VEVENT
END:VCALENDAR