BEGIN:VCALENDAR
VERSION:2.0
PRODID:-//Tukios.com/
BEGIN:VEVENT
UID:6ed6bc74-86d0-404b-a7da-57edcfc6a826@www.bartleyfh.com
DTSTAMP:20260423T210712Z
DTSTART:20260427T160000Z
DTEND:20260427T170000Z
SUMMARY:Graveside Service
DESCRIPTION:
URL:https://www.bartleyfh.com/obituaries/jack-reeves
LOCATION:    Alba TX 75410
GEO:32.7929034;-95.6344036
END:VEVENT
END:VCALENDAR