BEGIN:VCALENDAR
VERSION:2.0
PRODID:-//Tukios.com/
BEGIN:VEVENT
UID:a8ab0428-8150-49ca-8a90-576672ade91e@www.bartleyfh.com
DTSTAMP:20260424T020807Z
DTSTART:20260425T160000Z
DTEND:20260425T170000Z
SUMMARY:Funeral Service
DESCRIPTION:
URL:https://www.bartleyfh.com/obituaries/james-hollis
LOCATION:Sand Springs Baptist Church 3208 County Road 2330  Mineola TX 
	75773
GEO:32.7108523;-95.5142101
END:VEVENT
END:VCALENDAR