BEGIN:VCALENDAR
VERSION:2.0
PRODID:-//Tukios.com/
BEGIN:VEVENT
UID:a8d3b72c-6b0e-45de-a010-cf9649fde9e9@www.bartleyfh.com
DTSTAMP:20260424T021324Z
DTSTART:20260425T150000Z
DTEND:20260425T160000Z
SUMMARY:Visitation
DESCRIPTION:
URL:https://www.bartleyfh.com/obituaries/james-hollis
LOCATION:Sand Springs Baptist Church 3208 County Road 2330  Mineola TX 
	75773
GEO:32.7108523;-95.5142101
END:VEVENT
END:VCALENDAR